BEGIN:VCALENDAR
VERSION:2.0
PRODID:-//Tukios.com/
BEGIN:VEVENT
UID:39d0b6b8-e1eb-46a0-b60e-edac32e427c1@www.ebrightfuneralhome.com
DTSTAMP:20260419T131951Z
DTSTART:20260417T180000Z
DTEND:20260417T190000Z
SUMMARY:Funeral Service
DESCRIPTION:
URL:https://www.ebrightfuneralhome.com/obituaries/donald-neel-jr
LOCATION:Smith-Moore-Ebright Funeral Home 110 W Main St  Bainbridge OH 
	45612
GEO:39.2278319;-83.270984
END:VEVENT
END:VCALENDAR