BEGIN:VCALENDAR
VERSION:2.0
PRODID:-//Tukios.com/
BEGIN:VEVENT
UID:21629b9d-ab68-4e73-be7c-d47a505c14e1@www.ebrightfuneralhome.com
DTSTAMP:20260423T084817Z
DTSTART:20260422T170000Z
DTEND:20260422T180000Z
SUMMARY:Funeral Service
DESCRIPTION:
URL:https://www.ebrightfuneralhome.com/obituaries/charles-briggs
LOCATION:Ebright Funeral Home 55 W. Springfield St  Frankfort OH 45628
GEO:39.4024287;-83.1816685
END:VEVENT
END:VCALENDAR